BEGIN:VCALENDAR
VERSION:2.0
PRODID:-//Insurance Designation Lookup - ECPv6.15.20//NONSGML v1.0//EN
CALSCALE:GREGORIAN
METHOD:PUBLISH
X-WR-CALNAME:Insurance Designation Lookup
X-ORIGINAL-URL:https://insurancedesignationlookup.com
X-WR-CALDESC:Events for Insurance Designation Lookup
REFRESH-INTERVAL;VALUE=DURATION:PT1H
X-Robots-Tag:noindex
X-PUBLISHED-TTL:PT1H
BEGIN:VTIMEZONE
TZID:America/New_York
BEGIN:DAYLIGHT
TZOFFSETFROM:-0500
TZOFFSETTO:-0400
TZNAME:EDT
DTSTART:20240310T070000
END:DAYLIGHT
BEGIN:STANDARD
TZOFFSETFROM:-0400
TZOFFSETTO:-0500
TZNAME:EST
DTSTART:20241103T060000
END:STANDARD
BEGIN:DAYLIGHT
TZOFFSETFROM:-0500
TZOFFSETTO:-0400
TZNAME:EDT
DTSTART:20250309T070000
END:DAYLIGHT
BEGIN:STANDARD
TZOFFSETFROM:-0400
TZOFFSETTO:-0500
TZNAME:EST
DTSTART:20251102T060000
END:STANDARD
BEGIN:DAYLIGHT
TZOFFSETFROM:-0500
TZOFFSETTO:-0400
TZNAME:EDT
DTSTART:20260308T070000
END:DAYLIGHT
BEGIN:STANDARD
TZOFFSETFROM:-0400
TZOFFSETTO:-0500
TZNAME:EST
DTSTART:20261101T060000
END:STANDARD
END:VTIMEZONE
BEGIN:VEVENT
DTSTART;TZID=America/New_York:20251109T080000
DTEND;TZID=America/New_York:20251112T170000
DTSTAMP:20260421T041830
CREATED:20250924T231850Z
LAST-MODIFIED:20251210T191420Z
UID:10000004-1762675200-1762966800@insurancedesignationlookup.com
SUMMARY:Casualty Actuarial Society Annual Meeting
DESCRIPTION:✅ CEU Statement for Display\nContinuing Education Credit: The CAS Annual Meeting includes sessions that are CEU-worthy for credentialed actuaries and risk professionals. While formal CEU details for the 2026 event may be pending\, attendees can typically: \n\nEarn credit toward CAS Continuing Education Requirements\nSelf-report CE hours to relevant actuarial bodies (e.g.\, CAS\, SOA\, AAA)\nApply CE toward state licensing or professional development mandates\nReceive certificates of attendance for documentation (if provided by CAS)\n\nProfessionals should consult CAS or their credentialing body for final eligibility and reporting instructions. \n==========\nInnovation Hub\n\nDive into over 40 sessions led by 60 industry experts\, spanning nine distinct topic areas\, each designed to empower your professional growth and innovation. Gain unparalleled insights and practical knowledge to advance your career. To learn more about our sessions and speakers\, visit our schedule page. \nSpeaker Opinions: The opinions expressed by speakers at this event are their own and do not necessarily reflect the opinions of the CAS. \n\nSchedule of Events
URL:https://insurancedesignationlookup.com/event/casualty-actuarial-ssociety-annual-meeting/
LOCATION:CAS Annual Meeting\, Austin\, TX
CATEGORIES:Actuarial,Claims,Insurance/Risk Management,Sector
ATTACH;FMTTYPE=image/png:https://insurancedesignationlookup.com/wp-content/uploads/CEU-Badge-e1759014710993.png
END:VEVENT
END:VCALENDAR